BEGIN:VCALENDAR
VERSION:2.0
PRODID:-//Freunde der Kunsthalle - ECPv6.15.18//NONSGML v1.0//EN
CALSCALE:GREGORIAN
METHOD:PUBLISH
X-ORIGINAL-URL:https://www.freunde-kunsthalle-rostock.de
X-WR-CALDESC:Veranstaltungen für Freunde der Kunsthalle
REFRESH-INTERVAL;VALUE=DURATION:PT1H
X-Robots-Tag:noindex
X-PUBLISHED-TTL:PT1H
BEGIN:VTIMEZONE
TZID:Europe/Berlin
BEGIN:DAYLIGHT
TZOFFSETFROM:+0100
TZOFFSETTO:+0200
TZNAME:CEST
DTSTART:20250330T010000
END:DAYLIGHT
BEGIN:STANDARD
TZOFFSETFROM:+0200
TZOFFSETTO:+0100
TZNAME:CET
DTSTART:20251026T010000
END:STANDARD
BEGIN:DAYLIGHT
TZOFFSETFROM:+0100
TZOFFSETTO:+0200
TZNAME:CEST
DTSTART:20260329T010000
END:DAYLIGHT
BEGIN:STANDARD
TZOFFSETFROM:+0200
TZOFFSETTO:+0100
TZNAME:CET
DTSTART:20261025T010000
END:STANDARD
BEGIN:DAYLIGHT
TZOFFSETFROM:+0100
TZOFFSETTO:+0200
TZNAME:CEST
DTSTART:20270328T010000
END:DAYLIGHT
BEGIN:STANDARD
TZOFFSETFROM:+0200
TZOFFSETTO:+0100
TZNAME:CET
DTSTART:20271031T010000
END:STANDARD
END:VTIMEZONE
BEGIN:VEVENT
DTSTART;TZID=Europe/Berlin:20260222T150000
DTEND;TZID=Europe/Berlin:20260222T160000
DTSTAMP:20260421T233611
CREATED:20251123T193242Z
LAST-MODIFIED:20260220T051830Z
UID:10000029-1771772400-1771776000@www.freunde-kunsthalle-rostock.de
SUMMARY:Exkursion ins Kunstmuseum AHRENSHOOP: Sonderausstellung "Sammlung KRINGEL"
DESCRIPTION:Im KUNSTMUSEUM AHRENSHOOP führt uns unser Vorstandsmitglied Ulf Kringel durch seine „SAMMLUNG KRINGEL“: \nAusgangspunkt seiner leidenschaftlichen Suche nach Bildern aus der jüngeren mecklenburgischen und schlesischen Vergangenheit vor 1945 waren persönliche Motive\, die mit familiären Wurzeln in Schlesien und seiner Verankerung am Wohn- und Arbeitsort Rostock zu tun hatten. \nKringel stieß dabei auf Kunst\, von der er anfangs wenig geahnt hatte. Neben bekannten Namen sind vergessene Künstlerinnen und Künstler darunter. Diese Entdeckungen sind mit mehreren spektakulären Fundgeschichten verbunden. \nTreffpunkt: 14:45 Uhr im Foyer des Kunstmuseums Ahrenshoop \nAnreise: individuell \nKosten: ca. 13 Euro pro Person (ermäßigter Gruppen-Eintritt & Führung) \nAnmeldungen bitte an: kringel@freunde-kunsthalle-rostock.de \nDie Veranstaltung ist exklusiv für die Freunde der Kunsthalle Rostock. Die Teilnehmerzahl ist begrenzt – eine Anmeldung erbeten. \nSollten Sie diesen Termin nicht wahrnehmen können – besteht die Möglichkeit\, an einer vom Museum organisierten Führung teilzunehmen: Samstag\, 28.2.\, um 15 Uhr und letztmalig am Samstag \,14.3.\, um 14 Uhr.
URL:https://www.freunde-kunsthalle-rostock.de/event/exkursion-ins-kunstmuseum-ahrenshoop-sonderausstellung-sammlung-kringel/
LOCATION:Kunstmuseum Ahrenshoop\, Weg zum Hohen Ufer 36\, Ahrenshoop
ATTACH;FMTTYPE=image/jpeg:https://www.freunde-kunsthalle-rostock.de/wp-content/uploads/2025/11/Sammlung-2026-01-Kringel.jpg
END:VEVENT
BEGIN:VEVENT
DTSTART;TZID=Europe/Berlin:20260225T180000
DTEND;TZID=Europe/Berlin:20260225T190000
DTSTAMP:20260421T233611
CREATED:20260218T174811Z
LAST-MODIFIED:20260221T060007Z
UID:10000037-1772042400-1772046000@www.freunde-kunsthalle-rostock.de
SUMMARY:Exklusive Stunde VERSCHOBEN auf 25.03.!
DESCRIPTION:Die am 25.02. geplante Veranstaltung mit der neuen Mitarbeiterin der Kunsthalle Susanne Kühn findet am 25.03. statt!
URL:https://www.freunde-kunsthalle-rostock.de/event/exklusive-stunde-verschoben-auf-25-03/
LOCATION:Kunsthalle Rostock\, Schwanenteichpark\, Hamburger Str. 40\, Rostock\, Deutschland
END:VEVENT
BEGIN:VEVENT
DTSTART;TZID=Europe/Berlin:20260228T160000
DTEND;TZID=Europe/Berlin:20260228T173000
DTSTAMP:20260421T233611
CREATED:20260216T221028Z
LAST-MODIFIED:20260220T213636Z
UID:10000034-1772294400-1772299800@www.freunde-kunsthalle-rostock.de
SUMMARY:Sonderführung „HANS TICHA - Retrospektive“
DESCRIPTION:Im Rahmen einer Sonderführung bieten wir Ihnen die Möglichkeit\, mehr zu der derzeitigen Hauptausstellung der Kunsthalle „Hans Ticha – Retrospektive“ zu erfahren. Begleitet werden wir hierzu von der Kuratorin Antje Schunke und dem Galeristen Johannes Zielke\, die uns anhand ausgewählter Werke einen lebendigen Einblick zu den Werken Hans Tichas und der Entstehungsgeschichte dieser umfassenden Werkschau geben werden.
URL:https://www.freunde-kunsthalle-rostock.de/event/sonderfuehrung-hans-ticha-retrospektive/
LOCATION:Kunsthalle Rostock\, Schwanenteichpark\, Hamburger Str. 40\, Rostock\, Deutschland
ATTACH;FMTTYPE=image/jpeg:https://www.freunde-kunsthalle-rostock.de/wp-content/uploads/2026/02/hans-ticha-1200x1603-q80.jpg
END:VEVENT
BEGIN:VEVENT
DTSTART;TZID=Europe/Berlin:20260304T170000
DTEND;TZID=Europe/Berlin:20260304T180000
DTSTAMP:20260421T233611
CREATED:20260220T054219Z
LAST-MODIFIED:20260221T072813Z
UID:10000041-1772643600-1772647200@www.freunde-kunsthalle-rostock.de
SUMMARY:Exklusive Führung SKULPTURENAUSSTELLUNG
DESCRIPTION:Mit einer exklusiven FÜHRUNG inklusive GESPRÄCH MIT BILDHAUER*INNEN wird Vereinsmitgliedern und Sponsoren die Skulpturenausstellung „Die 3. Dimension – Skulpturen aus der Sammlung“ vorgestellt.
URL:https://www.freunde-kunsthalle-rostock.de/event/exklusive-stunde-skulpturenausstellung/
LOCATION:Kunsthalle Rostock\, Schwanenteichpark\, Hamburger Str. 40\, Rostock\, Deutschland
ATTACH;FMTTYPE=image/jpeg:https://www.freunde-kunsthalle-rostock.de/wp-content/uploads/2026/02/Skulpturensammlung-Siegfried-Schreiber.jpg
END:VEVENT
BEGIN:VEVENT
DTSTART;TZID=Europe/Berlin:20260307T180000
DTEND;TZID=Europe/Berlin:20260307T230000
DTSTAMP:20260421T233611
CREATED:20250406T084307Z
LAST-MODIFIED:20260327T205934Z
UID:10000018-1772906400-1772924400@www.freunde-kunsthalle-rostock.de
SUMMARY:FREUNDE werben FREUNDE!
DESCRIPTION:Nachtrag: Es war ein wunderbares Fest! Im →MV1-Video lässt sich die außergewöhnliche Stimmung zurückholen. \nANKÜNDIGUNG: Wir wollen AM 7. MÄRZ weitere NEUE FREUNDE für unseren Verein GEWINNEN! Zum dritten mal BRINGEN WIEDER MITGLIEDER IHRE FREUNDE ZU EINEM FEST mit in die Kunsthalle. \nAber auch ohne verbindendes Mitglied sind ALLE INTERESSIERTEN HERZLICH WILLKOMMEN! \nDafür bieten wir einen AUSSERGEWÖHNLICHEN ABEND mit Informationen rund um die Kunsthalle und den Förderverein. Der GEMEINSAME AUSTAUSCH zu interessanten Kunstthemen inspiriert zur Mitarbeit in unserer Gemeinschaft. \n \nEs gibt eine kleine VERSTEIGERUNG zugunsten des Vereins und MUSIKALISCHER HÖHEPUNKT wird die HOMMAGE an HITS von HOLGER BIEGE\, RENFT\, KARAT\, PUHDYS u.a. mit der Rostocker Band „ROSTROCK“. \n \nIM ANSCHLUSS gibt´s wieder RICHTIG GUTE MUSIK ZUM TANZEN – denn wir kommen doch selten genug dazu! \nWIR FREUEN UNS AUF UNSERE MITGLIEDER & NEUE FREUNDE! \n Der EINTRITT ist FREI!   Für eine optimale Planung wird um ANMELDUNG gebeten unter: \nanmeldung@freunde-kunsthalle-rostock.de \nBEGINN ist 18.00 Uhr. Für IMBISS & GETRÄNKE sorgen unsere engagierten ehrenamtlichen Helferinnen & Helfer. \n \n Unsere Veranstaltung wird unterstützt von der Ehrenamtsstiftung Mecklenburg-Vorpommern.
URL:https://www.freunde-kunsthalle-rostock.de/event/freunde-werben-freunde-2-2/
LOCATION:Kunsthalle Rostock\, Schwanenteichpark\, Hamburger Str. 40\, Rostock\, Deutschland
ATTACH;FMTTYPE=image/jpeg:https://www.freunde-kunsthalle-rostock.de/wp-content/uploads/2025/04/FDKR_FreundeWerbenFreunde_01-03-2025_1.jpg
END:VEVENT
BEGIN:VEVENT
DTSTART;TZID=Europe/Berlin:20260325T180000
DTEND;TZID=Europe/Berlin:20260325T190000
DTSTAMP:20260421T233611
CREATED:20260218T174340Z
LAST-MODIFIED:20260220T205609Z
UID:10000036-1774461600-1774465200@www.freunde-kunsthalle-rostock.de
SUMMARY:Exklusive Stunde
DESCRIPTION:Die wissenschaftliche Mitarbeiterin der Kunsthalle SUSANN KÜHN stellt ihre Tätigkeit interessierten Vereinsmitgliedern vor.
URL:https://www.freunde-kunsthalle-rostock.de/event/exklusive-stunde-2/
LOCATION:Kunsthalle Rostock\, Schwanenteichpark\, Hamburger Str. 40\, Rostock\, Deutschland
ATTACH;FMTTYPE=image/jpeg:https://www.freunde-kunsthalle-rostock.de/wp-content/uploads/2026/02/susann-kuehn-525x700-q80.jpg
END:VEVENT
BEGIN:VEVENT
DTSTART;TZID=Europe/Berlin:20260402T080000
DTEND;TZID=Europe/Berlin:20260408T170000
DTSTAMP:20260421T233611
CREATED:20260218T174933Z
LAST-MODIFIED:20260220T205927Z
UID:10000038-1775116800-1775667600@www.freunde-kunsthalle-rostock.de
SUMMARY:ROSTOCK KREATIV 2026
DESCRIPTION:ERÖFFNUNG am 02.04. um 16.00 Uhr \nPREISVERLEIHUNG am 08.04. um 16.00 Uhr
URL:https://www.freunde-kunsthalle-rostock.de/event/rostock-kreativ-2026/
LOCATION:Kunsthalle Rostock\, Schwanenteichpark\, Hamburger Str. 40\, Rostock\, Deutschland
ATTACH;FMTTYPE=image/jpeg:https://www.freunde-kunsthalle-rostock.de/wp-content/uploads/2025/08/2025-Rostock-kreativ.jpg
END:VEVENT
BEGIN:VEVENT
DTSTART;TZID=Europe/Berlin:20260412T103000
DTEND;TZID=Europe/Berlin:20260412T120000
DTSTAMP:20260421T233611
CREATED:20260218T180546Z
LAST-MODIFIED:20260220T213310Z
UID:10000039-1775989800-1775995200@www.freunde-kunsthalle-rostock.de
SUMMARY:Kinder-Kunst-Club
DESCRIPTION:
URL:https://www.freunde-kunsthalle-rostock.de/event/kinder-kunst-club/
LOCATION:Kunsthalle Rostock\, Schwanenteichpark\, Hamburger Str. 40\, Rostock\, Deutschland
ATTACH;FMTTYPE=image/jpeg:https://www.freunde-kunsthalle-rostock.de/wp-content/uploads/2024/12/KKC-12.2019.jpg
END:VEVENT
BEGIN:VEVENT
DTSTART;TZID=Europe/Berlin:20260422T180000
DTEND;TZID=Europe/Berlin:20260422T190000
DTSTAMP:20260421T233611
CREATED:20260402T060448Z
LAST-MODIFIED:20260415T174116Z
UID:10000042-1776880800-1776884400@www.freunde-kunsthalle-rostock.de
SUMMARY:Exklusive Stunde - SONDERFÜHRUNG "Mattheuer auf Reisen"
DESCRIPTION:Im Rahmen einer Sonderführung bieten wir Ihnen die Möglichkeit\, mehr über die neue Ausstellung „Mattheuer auf Reisen“ zu erfahren. Begleitet werden wir hierzu von der Kuratorin Melanie Ohst. Eine Anmeldung ist nicht erforderlich. \n! Exklusives Angebot nur für Mitglieder unseres Vereins: der Ausstellungskatalog zur Mattheuer-Ausstellung kann mit 10% Ermäßigung erworben werden !
URL:https://www.freunde-kunsthalle-rostock.de/event/exklusive-stunde-sonderfuehrung-mattheuer-auf-reisen/
LOCATION:Kunsthalle Rostock\, Schwanenteichpark\, Hamburger Str. 40\, Rostock\, Deutschland
ATTACH;FMTTYPE=image/jpeg:https://www.freunde-kunsthalle-rostock.de/wp-content/uploads/2026/04/Wolfgang-Mattheuer.jpg
END:VEVENT
BEGIN:VEVENT
DTSTART;TZID=Europe/Berlin:20260426T150000
DTEND;TZID=Europe/Berlin:20260426T160000
DTSTAMP:20260421T233611
CREATED:20260216T215954Z
LAST-MODIFIED:20260402T052959Z
UID:10000032-1777215600-1777219200@www.freunde-kunsthalle-rostock.de
SUMMARY:Exkursion ins Kunstmuseum AHRENSHOOP
DESCRIPTION:„Paco Knöller (*1950) – Es atmet Blau“ und „Die Lust am Freien – Mensch und Landschaft in modernen Werken aus der Sammlung“  \nSie können mit uns die neue Sonderausstellung des deutschen Malers Paco Knöller „Es atmet blau“ im Kunstmuseum Ahrenshoop besuchen. Als Schüler von Joseph Beuys erlangte er zunächst als Zeichner große Aufmerksamkeit. In der Ausstellung werden überwiegend großformatige farbige Werke auf Holz gezeigt\, die in einem aufwendigen Arbeitsprozess unter Verwendung von Lack\, Ölkreide und Messern entstanden. \nErgänzend gibt es Einblicke in die Sammlungspräsentation „Die Lust am Freien – Mensch und Landschaft in modernen Werken“. \nDie Führung wird von der Künstlerischen Leiterin des Museums Dr. Katrin Arrieta übernommen.  \nTreffpunkt ist 14.45 Uhr im Museum. Anreise individuell.
URL:https://www.freunde-kunsthalle-rostock.de/event/exkursion-ins-kunstmuseum-ahrenshoop/
LOCATION:Kunstmuseum Ahrenshoop\, Weg zum Hohen Ufer 36\, Ahrenshoop
ATTACH;FMTTYPE=image/jpeg:https://www.freunde-kunsthalle-rostock.de/wp-content/uploads/2024/09/kunstmuseum-ahrenshoop-1.jpg
END:VEVENT
BEGIN:VEVENT
DTSTART;TZID=Europe/Berlin:20260510T103000
DTEND;TZID=Europe/Berlin:20260510T120000
DTSTAMP:20260421T233611
CREATED:20260402T061200Z
LAST-MODIFIED:20260402T061200Z
UID:10000043-1778409000-1778414400@www.freunde-kunsthalle-rostock.de
SUMMARY:Kinder-Kunst-Club
DESCRIPTION:
URL:https://www.freunde-kunsthalle-rostock.de/event/kinder-kunst-club-2/
LOCATION:Kunsthalle Rostock\, Schwanenteichpark\, Hamburger Str. 40\, Rostock\, Deutschland
ATTACH;FMTTYPE=image/jpeg:https://www.freunde-kunsthalle-rostock.de/wp-content/uploads/2024/12/KKC-Geburtstag.jpg
END:VEVENT
BEGIN:VEVENT
DTSTART;TZID=Europe/Berlin:20260529T070000
DTEND;TZID=Europe/Berlin:20260531T203000
DTSTAMP:20260421T233611
CREATED:20260217T190714Z
LAST-MODIFIED:20260220T213747Z
UID:10000035-1780038000-1780259400@www.freunde-kunsthalle-rostock.de
SUMMARY:Kunstreise nach AARHUS
DESCRIPTION:Wir laden unsere Vereinsmitglieder zu einer besonderen KUNSTREISE nach DÄNEMARK ein. \nAARHUS lernen wir durch eine Stadtrundfahrt kennen\, im Anschluss führt uns der dänische Architekt NIELS-PETER MOHR NIELSEN exklusiv durch die Stadt. \nHöhepunkte der Kunstreise sind der Besuch des ARoS KUNSTMUSEUMS und das Künstleratelier von THOMAS KRUSE. Den Abschluss unserer Reise bildet ein Ausflug nach Silkeborg zum MUSEUM JORN. \nUnsere Vereinsmitglieder MONIKA GRUNER und ANTJE MARTENS haben diese Kunstreise für die FREUNDE DER KUNSTHALLE organisiert. Alle Plätze sind bereits ausgebucht.
URL:https://www.freunde-kunsthalle-rostock.de/event/kunstreise-nach-aarhus/
LOCATION:Aarhus\, Aros Allé 2\, Aarhus\, 8000\, Denmark
ATTACH;FMTTYPE=image/jpeg:https://www.freunde-kunsthalle-rostock.de/wp-content/uploads/2026/02/Aarhus-2026.jpg
END:VEVENT
BEGIN:VEVENT
DTSTART;TZID=Europe/Berlin:20260607T103000
DTEND;TZID=Europe/Berlin:20260607T120000
DTSTAMP:20260421T233611
CREATED:20260402T061339Z
LAST-MODIFIED:20260402T061339Z
UID:10000044-1780828200-1780833600@www.freunde-kunsthalle-rostock.de
SUMMARY:Kinder-Kunst-Club
DESCRIPTION:
URL:https://www.freunde-kunsthalle-rostock.de/event/kinder-kunst-club-3/
LOCATION:Kunsthalle Rostock\, Schwanenteichpark\, Hamburger Str. 40\, Rostock\, Deutschland
ATTACH;FMTTYPE=image/jpeg:https://www.freunde-kunsthalle-rostock.de/wp-content/uploads/2024/12/Kinder-Kunst-Club.jpg
END:VEVENT
BEGIN:VEVENT
DTSTART;TZID=Europe/Berlin:20260829T170000
DTEND;TZID=Europe/Berlin:20260829T230000
DTSTAMP:20260421T233611
CREATED:20260219T130627Z
LAST-MODIFIED:20260318T180819Z
UID:10000040-1788022800-1788044400@www.freunde-kunsthalle-rostock.de
SUMMARY:Mitgliederversammlung & SOMMERFEST des Vereins
DESCRIPTION:
URL:https://www.freunde-kunsthalle-rostock.de/event/sommerfest-des-vereins/
LOCATION:Kunsthalle Rostock\, Schwanenteichpark\, Hamburger Str. 40\, Rostock\, Deutschland
ATTACH;FMTTYPE=image/jpeg:https://www.freunde-kunsthalle-rostock.de/wp-content/uploads/2025/08/2025-06-Sommerfest-2.jpg
END:VEVENT
BEGIN:VEVENT
DTSTART;TZID=Europe/Berlin:20261001T080000
DTEND;TZID=Europe/Berlin:20261031T170000
DTSTAMP:20260421T233611
CREATED:20250630T205924Z
LAST-MODIFIED:20260218T175320Z
UID:10000023-1790841600-1793466000@www.freunde-kunsthalle-rostock.de
SUMMARY:Exkursion nach HALLE/SAALE (genauer Termin folgt!)
DESCRIPTION:Im Herbst 2026 planen wir eine Kunstexkursion in die Kulturstadt HALLE/SAALE. Das KUNSTMUSEUM MORITZBURG\, die KUNSTHOCHSCHULE BURG GIEBICHENSTEIN und die in großen Teilen erhaltene Altstadt werden von uns erkundet. (genauer Reisetermin folgt)
URL:https://www.freunde-kunsthalle-rostock.de/event/exkursion-nach-halle-saale/
LOCATION:Kunsthalle Rostock\, Schwanenteichpark\, Hamburger Str. 40\, Rostock\, Deutschland
ATTACH;FMTTYPE=image/jpeg:https://www.freunde-kunsthalle-rostock.de/wp-content/uploads/2025/06/Halle-2026.jpg
END:VEVENT
BEGIN:VEVENT
DTSTART;TZID=Europe/Berlin:20261122T150000
DTEND;TZID=Europe/Berlin:20261122T160000
DTSTAMP:20260421T233611
CREATED:20260216T220410Z
LAST-MODIFIED:20260216T220410Z
UID:10000033-1795359600-1795363200@www.freunde-kunsthalle-rostock.de
SUMMARY:Exkursion ins Kunstmuseum Ahrenshoop
DESCRIPTION:„Die Künstlerkolonie Katwijk“ und „Ernst Schroeder (1928-1989)“
URL:https://www.freunde-kunsthalle-rostock.de/event/exkursion-ins-kunstmuseum-ahrenshoop-2/
LOCATION:Kunstmuseum Ahrenshoop\, Weg zum Hohen Ufer 36\, Ahrenshoop
END:VEVENT
END:VCALENDAR