BEGIN:VCALENDAR
VERSION:2.0
PRODID:-//Freunde der Kunsthalle - ECPv6.15.18//NONSGML v1.0//EN
CALSCALE:GREGORIAN
METHOD:PUBLISH
X-ORIGINAL-URL:https://www.freunde-kunsthalle-rostock.de
X-WR-CALDESC:Veranstaltungen für Freunde der Kunsthalle
REFRESH-INTERVAL;VALUE=DURATION:PT1H
X-Robots-Tag:noindex
X-PUBLISHED-TTL:PT1H
BEGIN:VTIMEZONE
TZID:Europe/Berlin
BEGIN:DAYLIGHT
TZOFFSETFROM:+0100
TZOFFSETTO:+0200
TZNAME:CEST
DTSTART:20250330T010000
END:DAYLIGHT
BEGIN:STANDARD
TZOFFSETFROM:+0200
TZOFFSETTO:+0100
TZNAME:CET
DTSTART:20251026T010000
END:STANDARD
BEGIN:DAYLIGHT
TZOFFSETFROM:+0100
TZOFFSETTO:+0200
TZNAME:CEST
DTSTART:20260329T010000
END:DAYLIGHT
BEGIN:STANDARD
TZOFFSETFROM:+0200
TZOFFSETTO:+0100
TZNAME:CET
DTSTART:20261025T010000
END:STANDARD
BEGIN:DAYLIGHT
TZOFFSETFROM:+0100
TZOFFSETTO:+0200
TZNAME:CEST
DTSTART:20270328T010000
END:DAYLIGHT
BEGIN:STANDARD
TZOFFSETFROM:+0200
TZOFFSETTO:+0100
TZNAME:CET
DTSTART:20271031T010000
END:STANDARD
END:VTIMEZONE
BEGIN:VEVENT
DTSTART;TZID=Europe/Berlin:20260222T150000
DTEND;TZID=Europe/Berlin:20260222T160000
DTSTAMP:20260421T220947
CREATED:20251123T193242Z
LAST-MODIFIED:20260220T051830Z
UID:10000029-1771772400-1771776000@www.freunde-kunsthalle-rostock.de
SUMMARY:Exkursion ins Kunstmuseum AHRENSHOOP: Sonderausstellung "Sammlung KRINGEL"
DESCRIPTION:Im KUNSTMUSEUM AHRENSHOOP führt uns unser Vorstandsmitglied Ulf Kringel durch seine „SAMMLUNG KRINGEL“: \nAusgangspunkt seiner leidenschaftlichen Suche nach Bildern aus der jüngeren mecklenburgischen und schlesischen Vergangenheit vor 1945 waren persönliche Motive\, die mit familiären Wurzeln in Schlesien und seiner Verankerung am Wohn- und Arbeitsort Rostock zu tun hatten. \nKringel stieß dabei auf Kunst\, von der er anfangs wenig geahnt hatte. Neben bekannten Namen sind vergessene Künstlerinnen und Künstler darunter. Diese Entdeckungen sind mit mehreren spektakulären Fundgeschichten verbunden. \nTreffpunkt: 14:45 Uhr im Foyer des Kunstmuseums Ahrenshoop \nAnreise: individuell \nKosten: ca. 13 Euro pro Person (ermäßigter Gruppen-Eintritt & Führung) \nAnmeldungen bitte an: kringel@freunde-kunsthalle-rostock.de \nDie Veranstaltung ist exklusiv für die Freunde der Kunsthalle Rostock. Die Teilnehmerzahl ist begrenzt – eine Anmeldung erbeten. \nSollten Sie diesen Termin nicht wahrnehmen können – besteht die Möglichkeit\, an einer vom Museum organisierten Führung teilzunehmen: Samstag\, 28.2.\, um 15 Uhr und letztmalig am Samstag \,14.3.\, um 14 Uhr.
URL:https://www.freunde-kunsthalle-rostock.de/event/exkursion-ins-kunstmuseum-ahrenshoop-sonderausstellung-sammlung-kringel/
LOCATION:Kunstmuseum Ahrenshoop\, Weg zum Hohen Ufer 36\, Ahrenshoop
ATTACH;FMTTYPE=image/jpeg:https://www.freunde-kunsthalle-rostock.de/wp-content/uploads/2025/11/Sammlung-2026-01-Kringel.jpg
END:VEVENT
END:VCALENDAR