BEGIN:VCALENDAR
VERSION:2.0
PRODID:-//Freunde der Kunsthalle - ECPv6.15.18//NONSGML v1.0//EN
CALSCALE:GREGORIAN
METHOD:PUBLISH
X-ORIGINAL-URL:https://www.freunde-kunsthalle-rostock.de
X-WR-CALDESC:Veranstaltungen für Freunde der Kunsthalle
REFRESH-INTERVAL;VALUE=DURATION:PT1H
X-Robots-Tag:noindex
X-PUBLISHED-TTL:PT1H
BEGIN:VTIMEZONE
TZID:Europe/Berlin
BEGIN:DAYLIGHT
TZOFFSETFROM:+0100
TZOFFSETTO:+0200
TZNAME:CEST
DTSTART:20250330T010000
END:DAYLIGHT
BEGIN:STANDARD
TZOFFSETFROM:+0200
TZOFFSETTO:+0100
TZNAME:CET
DTSTART:20251026T010000
END:STANDARD
BEGIN:DAYLIGHT
TZOFFSETFROM:+0100
TZOFFSETTO:+0200
TZNAME:CEST
DTSTART:20260329T010000
END:DAYLIGHT
BEGIN:STANDARD
TZOFFSETFROM:+0200
TZOFFSETTO:+0100
TZNAME:CET
DTSTART:20261025T010000
END:STANDARD
BEGIN:DAYLIGHT
TZOFFSETFROM:+0100
TZOFFSETTO:+0200
TZNAME:CEST
DTSTART:20270328T010000
END:DAYLIGHT
BEGIN:STANDARD
TZOFFSETFROM:+0200
TZOFFSETTO:+0100
TZNAME:CET
DTSTART:20271031T010000
END:STANDARD
END:VTIMEZONE
BEGIN:VEVENT
DTSTART;TZID=Europe/Berlin:20260118T170000
DTEND;TZID=Europe/Berlin:20260118T190000
DTSTAMP:20260421T233213
CREATED:20251205T051010Z
LAST-MODIFIED:20251205T193123Z
UID:10000030-1768755600-1768762800@www.freunde-kunsthalle-rostock.de
SUMMARY:Gemeinsame Veranstaltung „Freunde Volkstheater Rostock" & „Freunde der Kunsthalle"
DESCRIPTION:Endlich klappt es mit einer gemeinsamen Veranstaltung unserer beiden Vereine! Die „Freunde und Förderer Volkstheater Rostock e. V.“ laden die „Freunde der Kunsthalle Rostock e. V.“ am Sonntag\, dem 18.01.2026 um 17 Uhr sehr herzlich ins Volkstheater ein. \nWir treffen uns im Ateliertheater und werden dann in Gruppen von je ca. 20 Personen eingeteilt\, die mit kundiger Begleitung aus dem Theater die „Katakomben“ des Hauses erforschen. Die Führung wird ca. eine Stunde dauern.\nDanach finden wir uns wieder im Ateliertheater ein und sehen uns gemeinsam den „Betonschifffilm“ und vielleicht noch einen weiteren Film an (Dauer insgesamt ca. 30 Minuten). \nDer Abend klingt dann ab spätestens 19 Uhr in der „Theaterbar“ bei einem oder mehreren Gläsern und – wer mag – einer Kleinigkeit zu essen aus. \nDie Teilnehmerzahl ist wegen der Aufnahmekapazitäten des Ateliertheaters und der zahlenmäßig eingeschränkten Möglichkeiten für die Führungen auf insgesamt 80 Personen begrenzt – je 40 von beiden Vereinen. \nAnmeldungen bis zum 31.12.25 bitte unter:\nanmeldung@freunde-kunsthalle-rostock.de \nDie Anmeldungen werden nach Eingang berücksichtigt. Wenn die Listen voll sind\, wird eine Warteliste gebildet. Mitglieder\, die sich angemeldet haben und dann doch an einer Teilnahme verhindert sind\, lassen sich bitte im Interesse von Nachrückern von der Teilnahmeliste streichen.\nBeide Vereine freuen sich darauf\, mit dieser gemeinsamen Aktion die Mitglieder zusammen zu bringen\, sich auszutauschen und vielleicht den einen oder die andere dazu zu bewegen\, beide Vereine zu unterstützen.
URL:https://www.freunde-kunsthalle-rostock.de/event/gemeinsame-veranstaltung-der-freunde-und-foerderer-volkstheater-rostock-e-v-und-der-freunde/
LOCATION:Volkstheater Rostock\, Doberaner Str. 135\, Rostock\, 18057\, Deutschland
ATTACH;FMTTYPE=image/jpeg:https://www.freunde-kunsthalle-rostock.de/wp-content/uploads/2025/12/Volkstheater-Rostock-scaled.jpg
END:VEVENT
END:VCALENDAR