BEGIN:VCALENDAR
VERSION:2.0
PRODID:-//Freunde der Kunsthalle - ECPv6.15.18//NONSGML v1.0//EN
CALSCALE:GREGORIAN
METHOD:PUBLISH
X-ORIGINAL-URL:https://www.freunde-kunsthalle-rostock.de
X-WR-CALDESC:Veranstaltungen für Freunde der Kunsthalle
REFRESH-INTERVAL;VALUE=DURATION:PT1H
X-Robots-Tag:noindex
X-PUBLISHED-TTL:PT1H
BEGIN:VTIMEZONE
TZID:Europe/Berlin
BEGIN:DAYLIGHT
TZOFFSETFROM:+0100
TZOFFSETTO:+0200
TZNAME:CEST
DTSTART:20240331T010000
END:DAYLIGHT
BEGIN:STANDARD
TZOFFSETFROM:+0200
TZOFFSETTO:+0100
TZNAME:CET
DTSTART:20241027T010000
END:STANDARD
BEGIN:DAYLIGHT
TZOFFSETFROM:+0100
TZOFFSETTO:+0200
TZNAME:CEST
DTSTART:20250330T010000
END:DAYLIGHT
BEGIN:STANDARD
TZOFFSETFROM:+0200
TZOFFSETTO:+0100
TZNAME:CET
DTSTART:20251026T010000
END:STANDARD
BEGIN:DAYLIGHT
TZOFFSETFROM:+0100
TZOFFSETTO:+0200
TZNAME:CEST
DTSTART:20260329T010000
END:DAYLIGHT
BEGIN:STANDARD
TZOFFSETFROM:+0200
TZOFFSETTO:+0100
TZNAME:CET
DTSTART:20261025T010000
END:STANDARD
END:VTIMEZONE
BEGIN:VEVENT
DTSTART;TZID=Europe/Berlin:20251126T180000
DTEND;TZID=Europe/Berlin:20251126T190000
DTSTAMP:20260422T021839
CREATED:20251109T183236Z
LAST-MODIFIED:20251109T183755Z
UID:10000028-1764180000-1764183600@www.freunde-kunsthalle-rostock.de
SUMMARY:Inge Kollmorgen - Sammeln mit Leidenschaft und Hintergrund
DESCRIPTION:Der Freundeskreis der Kunsthalle Rostock lädt zu einer exklusiven Stunde mit Inge Kollmorgen\, selbst Mitglied in unserem Freundeskreis\, ein – moderiert von Thomas Böhm. \nWie wird man Sammlerin? Inge Kollmorgen erzählt von ihren Anfängen in einer Sammlerfamilie\, vom ersten Porzellanteller mit 15 Jahren und der Faszination\, die sie seitdem nicht mehr loslässt. Nach der Wende entdeckt sie auf Flohmärkten Spritzdekorkeramik – farbenprächtig\, selten\, eine deutsche Erfindung –\, und beginnt in DDR-Zeiten auch Kunst zu sammeln. Ihr erstes Bild: ein Hans-Emil-Oberländer\, gekauft für 250 Ostmark. Sammeln mit Geschichten voller Zufälle\, aber durchaus gezielt und mit viel Hintergrund. \nHeute ist Inge Kollmorgen vor allem Grafik-Sammlerin. Weil sie erschwinglich ist\, Raum spart und dennoch Tiefe hat. Sie erklärt\, worauf es bei guter Grafik ankommt – von Radierung über Holzschnitt bis Zeichnung –\, warum die Auflage eine Rolle spielt und wie man Werke richtig rahmt\, präsentiert und lagert. Dabei zeigen wir Fotos ihrer Sammlung: von Egon Tschirch und Susanne Kandt-Horn über die Weimarer Kunstschule bis zu Franz Bunkes Ölbild mit Mühle. \nEin Abend über Sammelleidenschaft\, Entdeckerglück und die Frage: Macht Sammeln reich – oder reich an Geschichten?
URL:https://www.freunde-kunsthalle-rostock.de/event/inge-kollmorgen-sammeln-mit-leidenschaft-und-hintergrund/
LOCATION:Kunsthalle Rostock\, Schwanenteichpark\, Hamburger Str. 40\, Rostock\, Deutschland
ATTACH;FMTTYPE=image/jpeg:https://www.freunde-kunsthalle-rostock.de/wp-content/uploads/2025/11/Inge-Kollmorgen.jpg
END:VEVENT
END:VCALENDAR