BEGIN:VCALENDAR
VERSION:2.0
PRODID:-//Freunde der Kunsthalle - ECPv6.15.18//NONSGML v1.0//EN
CALSCALE:GREGORIAN
METHOD:PUBLISH
X-WR-CALNAME:Freunde der Kunsthalle
X-ORIGINAL-URL:https://www.freunde-kunsthalle-rostock.de
X-WR-CALDESC:Veranstaltungen für Freunde der Kunsthalle
REFRESH-INTERVAL;VALUE=DURATION:PT1H
X-Robots-Tag:noindex
X-PUBLISHED-TTL:PT1H
BEGIN:VTIMEZONE
TZID:Europe/Berlin
BEGIN:DAYLIGHT
TZOFFSETFROM:+0100
TZOFFSETTO:+0200
TZNAME:CEST
DTSTART:20240331T010000
END:DAYLIGHT
BEGIN:STANDARD
TZOFFSETFROM:+0200
TZOFFSETTO:+0100
TZNAME:CET
DTSTART:20241027T010000
END:STANDARD
BEGIN:DAYLIGHT
TZOFFSETFROM:+0100
TZOFFSETTO:+0200
TZNAME:CEST
DTSTART:20250330T010000
END:DAYLIGHT
BEGIN:STANDARD
TZOFFSETFROM:+0200
TZOFFSETTO:+0100
TZNAME:CET
DTSTART:20251026T010000
END:STANDARD
BEGIN:DAYLIGHT
TZOFFSETFROM:+0100
TZOFFSETTO:+0200
TZNAME:CEST
DTSTART:20260329T010000
END:DAYLIGHT
BEGIN:STANDARD
TZOFFSETFROM:+0200
TZOFFSETTO:+0100
TZNAME:CET
DTSTART:20261025T010000
END:STANDARD
END:VTIMEZONE
BEGIN:VEVENT
DTSTART;TZID=Europe/Berlin:20251101T110000
DTEND;TZID=Europe/Berlin:20251101T120000
DTSTAMP:20260422T021831
CREATED:20250630T162209Z
LAST-MODIFIED:20251001T164939Z
UID:10000022-1761994800-1761998400@www.freunde-kunsthalle-rostock.de
SUMMARY:SONDERFÜHRUNG: Rosa Loy - Kuratorenführung
DESCRIPTION:Die Kuratorin TEREZA DE ARRUDA führt uns durch die Ausstellung „ROSA LOY – Sonne im Sinn“.
URL:https://www.freunde-kunsthalle-rostock.de/event/exklusive-stunde-rosa-loy-kuratorenfuehrung/
LOCATION:Kunsthalle Rostock\, Schwanenteichpark\, Hamburger Str. 40\, Rostock\, Deutschland
ATTACH;FMTTYPE=image/jpeg:https://www.freunde-kunsthalle-rostock.de/wp-content/uploads/2025/06/rosa-loy_ihr-und-wir-2021-kasein-auf-leinwand-60x46cm-600x741-q80.jpg
END:VEVENT
END:VCALENDAR