BEGIN:VCALENDAR
VERSION:2.0
PRODID:-//Freunde der Kunsthalle - ECPv6.15.18//NONSGML v1.0//EN
CALSCALE:GREGORIAN
METHOD:PUBLISH
X-ORIGINAL-URL:https://www.freunde-kunsthalle-rostock.de
X-WR-CALDESC:Veranstaltungen für Freunde der Kunsthalle
REFRESH-INTERVAL;VALUE=DURATION:PT1H
X-Robots-Tag:noindex
X-PUBLISHED-TTL:PT1H
BEGIN:VTIMEZONE
TZID:Europe/Berlin
BEGIN:DAYLIGHT
TZOFFSETFROM:+0100
TZOFFSETTO:+0200
TZNAME:CEST
DTSTART:20240331T010000
END:DAYLIGHT
BEGIN:STANDARD
TZOFFSETFROM:+0200
TZOFFSETTO:+0100
TZNAME:CET
DTSTART:20241027T010000
END:STANDARD
BEGIN:DAYLIGHT
TZOFFSETFROM:+0100
TZOFFSETTO:+0200
TZNAME:CEST
DTSTART:20250330T010000
END:DAYLIGHT
BEGIN:STANDARD
TZOFFSETFROM:+0200
TZOFFSETTO:+0100
TZNAME:CET
DTSTART:20251026T010000
END:STANDARD
BEGIN:DAYLIGHT
TZOFFSETFROM:+0100
TZOFFSETTO:+0200
TZNAME:CEST
DTSTART:20260329T010000
END:DAYLIGHT
BEGIN:STANDARD
TZOFFSETFROM:+0200
TZOFFSETTO:+0100
TZNAME:CET
DTSTART:20261025T010000
END:STANDARD
END:VTIMEZONE
BEGIN:VEVENT
DTSTART;TZID=Europe/Berlin:20251007T170000
DTEND;TZID=Europe/Berlin:20251007T200000
DTSTAMP:20260422T034655
CREATED:20250910T054944Z
LAST-MODIFIED:20250910T060526Z
UID:10000026-1759856400-1759867200@www.freunde-kunsthalle-rostock.de
SUMMARY:Exkursion nach LÜBECK: Museumsfreunde Lübeck laden ein
DESCRIPTION:Ein besonderer Abend im Zeichen der Kunst und des Austauschs:\nDie Freunde der Kunsthalle Rostock folgen der Einladung der Museumsfreunde Lübeck und besuchen gemeinsam die traditionsreiche Hansestadt. In der Kunsthalle St. Annen erwartet die Gäste ein interessantes Programm. \n\n17:00 Uhr – Führung durch die Ausstellung\n„Shilpa Gupta. We last met in the mirror“\nDie international gefeierte indische Künstlerin stellt in ihrer ersten großen Einzelausstellung in Deutschland Arbeiten aus zwei Jahrzehnten vor – Werke voller Poesie und politischer Schärfe\, ausgezeichnet mit dem Possehl-Preis für Internationale Kunst 2025.\n18:15 Uhr – Gemeinsamer Imbiss\nGelegenheit\, bei einem Glas Wein ins Gespräch zu kommen und den Austausch zwischen den beiden Freundeskreisen Rostock und Lübeck zu vertiefen.\n19:00 Uhr – Vortrag von Denise Tonella\, Direktorin des Schweizerischen Nationalmuseums Zürich\nUnter dem Titel „Museum im Wandel“ spricht die renommierte Kulturmanagerin über die Herausforderungen und Chancen für Museen im 21. Jahrhundert – von neuen Vermittlungsformaten bis zur Rolle der Häuser als Orte lebendiger Debatten.\n\nWir freuen uns auf Lübeck! Denn: Kunst verbindet – und schafft Freundschaften\, die weit über die Museumswände hinausreichen. \nDie Anreise ist individuell. Die Kapazität ist auf 20 Teilnehmende beschränkt. Die Veranstaltungen in Lübeck sind für uns mit keinen Kosten verbunden. \nAnmeldungen bitte an: boehm@freunde-kunsthalle-rostock.de
URL:https://www.freunde-kunsthalle-rostock.de/event/exkursion-nach-luebeck-museumsfreunde-luebeck-laden-ein/
LOCATION:Kunsthalle St. Annen Lübeck\, St. Annen-Str. 15\, Hansestadt Lübeck\, 23552\, Deutschland
ATTACH;FMTTYPE=image/jpeg:https://www.freunde-kunsthalle-rostock.de/wp-content/uploads/2025/09/Kunsthalle-Luebeck-St.-Annen.jpg
END:VEVENT
END:VCALENDAR