BEGIN:VCALENDAR
VERSION:2.0
PRODID:-//Freunde der Kunsthalle - ECPv6.15.18//NONSGML v1.0//EN
CALSCALE:GREGORIAN
METHOD:PUBLISH
X-ORIGINAL-URL:https://www.freunde-kunsthalle-rostock.de
X-WR-CALDESC:Veranstaltungen für Freunde der Kunsthalle
REFRESH-INTERVAL;VALUE=DURATION:PT1H
X-Robots-Tag:noindex
X-PUBLISHED-TTL:PT1H
BEGIN:VTIMEZONE
TZID:Europe/Berlin
BEGIN:DAYLIGHT
TZOFFSETFROM:+0100
TZOFFSETTO:+0200
TZNAME:CEST
DTSTART:20240331T010000
END:DAYLIGHT
BEGIN:STANDARD
TZOFFSETFROM:+0200
TZOFFSETTO:+0100
TZNAME:CET
DTSTART:20241027T010000
END:STANDARD
BEGIN:DAYLIGHT
TZOFFSETFROM:+0100
TZOFFSETTO:+0200
TZNAME:CEST
DTSTART:20250330T010000
END:DAYLIGHT
BEGIN:STANDARD
TZOFFSETFROM:+0200
TZOFFSETTO:+0100
TZNAME:CET
DTSTART:20251026T010000
END:STANDARD
BEGIN:DAYLIGHT
TZOFFSETFROM:+0100
TZOFFSETTO:+0200
TZNAME:CEST
DTSTART:20260329T010000
END:DAYLIGHT
BEGIN:STANDARD
TZOFFSETFROM:+0200
TZOFFSETTO:+0100
TZNAME:CET
DTSTART:20261025T010000
END:STANDARD
END:VTIMEZONE
BEGIN:VEVENT
DTSTART;TZID=Europe/Berlin:20250628T170000
DTEND;TZID=Europe/Berlin:20250628T230000
DTSTAMP:20260422T094309
CREATED:20241208T061729Z
LAST-MODIFIED:20250605T123412Z
UID:10000012-1751130000-1751151600@www.freunde-kunsthalle-rostock.de
SUMMARY:Mitgliederversammlung & Sommerfest
DESCRIPTION:Im Anschluss an die Mitgliederversammlung (Beginn 17.00 UHr) freuen wir uns\, ab ca. 18.30 Uhr\, mit Ihnen in lockerer Atmosphäre bei unserem jährlichen Sommerfest ins Gespräch über unseren Verein und die Kunsthalle zu kommen. Musikalisch werden wir dabei von dem Rostocker DUO TRIONO begleitet.
URL:https://www.freunde-kunsthalle-rostock.de/event/sommerfest/
LOCATION:Kunsthalle Rostock\, Schwanenteichpark\, Hamburger Str. 40\, Rostock\, Deutschland
ATTACH;FMTTYPE=image/jpeg:https://www.freunde-kunsthalle-rostock.de/wp-content/uploads/2025/04/Sommerfest-Kunsthalle.jpg
END:VEVENT
END:VCALENDAR