BEGIN:VCALENDAR
VERSION:2.0
PRODID:-//Freunde der Kunsthalle - ECPv6.15.18//NONSGML v1.0//EN
CALSCALE:GREGORIAN
METHOD:PUBLISH
X-ORIGINAL-URL:https://www.freunde-kunsthalle-rostock.de
X-WR-CALDESC:Veranstaltungen für Freunde der Kunsthalle
REFRESH-INTERVAL;VALUE=DURATION:PT1H
X-Robots-Tag:noindex
X-PUBLISHED-TTL:PT1H
BEGIN:VTIMEZONE
TZID:Europe/Berlin
BEGIN:DAYLIGHT
TZOFFSETFROM:+0100
TZOFFSETTO:+0200
TZNAME:CEST
DTSTART:20240331T010000
END:DAYLIGHT
BEGIN:STANDARD
TZOFFSETFROM:+0200
TZOFFSETTO:+0100
TZNAME:CET
DTSTART:20241027T010000
END:STANDARD
BEGIN:DAYLIGHT
TZOFFSETFROM:+0100
TZOFFSETTO:+0200
TZNAME:CEST
DTSTART:20250330T010000
END:DAYLIGHT
BEGIN:STANDARD
TZOFFSETFROM:+0200
TZOFFSETTO:+0100
TZNAME:CET
DTSTART:20251026T010000
END:STANDARD
BEGIN:DAYLIGHT
TZOFFSETFROM:+0100
TZOFFSETTO:+0200
TZNAME:CEST
DTSTART:20260329T010000
END:DAYLIGHT
BEGIN:STANDARD
TZOFFSETFROM:+0200
TZOFFSETTO:+0100
TZNAME:CET
DTSTART:20261025T010000
END:STANDARD
END:VTIMEZONE
BEGIN:VEVENT
DTSTART;TZID=Europe/Berlin:20250427T150000
DTEND;TZID=Europe/Berlin:20250427T170000
DTSTAMP:20260422T160728
CREATED:20250406T063143Z
LAST-MODIFIED:20250409T144627Z
UID:10000014-1745766000-1745773200@www.freunde-kunsthalle-rostock.de
SUMMARY:Exklusiver Besuch im Kunstmuseum Ahrenshoop
DESCRIPTION:UNTERWEGS  \nChristine und Wolfram Ebersbach – Malerei & Grafik \nDr. Katrin Arrieta wird uns durch eine spannende Ausstellung führen: \nDas Kunstmuseum Ahrenshoop präsentiert vom 5. April bis zum 22. Juni 2025 die\nSonderausstellung “Unterwegs – Christine und Wolfram Ebersbach”\, die Malerei und Grafik\nder beiden Künstler zeigt.\nChristine Ebersbach (*1954) und Wolfram Ebersbach (*1943)\, beide aus der Leipziger Schule\,\nschöpfen ihre Inspiration aus der sie umgebenden Natur\, urbanen Räumen sowie\ngemeinsamen Reisen. Ihre Werke reflektieren zudem Eindrücke der Landschaft und\nArchitektur des Fischlands und des Darß. Während Wolfram Ebersbachs Arbeiten von\nstarken Schwarz-Weiß-Kontrasten geprägt sind\, die Licht und Schatten betonen\, konzentriert\nsich Christine Ebersbach auf die elementaren Formen der Landschaft. \nWeitere Informationen unter https://kunstmuseum-ahrenshoop.de\nBitte melden Sie sich an unter:\nboehm@freunde-kunsthalle-rostock.de \nEs gilt individuelle Anreise und Selbstzahler für Gruppe und Führung Gesamt EUR 13.\nMitfahrgelegenheiten können organisiert werden.
URL:https://www.freunde-kunsthalle-rostock.de/event/exklusiver-besuch-im-kunstmuseum-ahrenshoop/
LOCATION:Kunstmuseum Ahrenshoop\, Weg zum Hohen Ufer 36\, Ahrenshoop
ATTACH;FMTTYPE=image/jpeg:https://www.freunde-kunsthalle-rostock.de/wp-content/uploads/2025/04/Screenshot-2254.jpg
END:VEVENT
END:VCALENDAR