BEGIN:VCALENDAR
VERSION:2.0
PRODID:-//Freunde der Kunsthalle - ECPv6.15.18//NONSGML v1.0//EN
CALSCALE:GREGORIAN
METHOD:PUBLISH
X-WR-CALNAME:Freunde der Kunsthalle
X-ORIGINAL-URL:https://www.freunde-kunsthalle-rostock.de
X-WR-CALDESC:Veranstaltungen für Freunde der Kunsthalle
REFRESH-INTERVAL;VALUE=DURATION:PT1H
X-Robots-Tag:noindex
X-PUBLISHED-TTL:PT1H
BEGIN:VTIMEZONE
TZID:Europe/Berlin
BEGIN:DAYLIGHT
TZOFFSETFROM:+0100
TZOFFSETTO:+0200
TZNAME:CEST
DTSTART:20220327T010000
END:DAYLIGHT
BEGIN:STANDARD
TZOFFSETFROM:+0200
TZOFFSETTO:+0100
TZNAME:CET
DTSTART:20221030T010000
END:STANDARD
BEGIN:DAYLIGHT
TZOFFSETFROM:+0100
TZOFFSETTO:+0200
TZNAME:CEST
DTSTART:20230326T010000
END:DAYLIGHT
BEGIN:STANDARD
TZOFFSETFROM:+0200
TZOFFSETTO:+0100
TZNAME:CET
DTSTART:20231029T010000
END:STANDARD
BEGIN:DAYLIGHT
TZOFFSETFROM:+0100
TZOFFSETTO:+0200
TZNAME:CEST
DTSTART:20240331T010000
END:DAYLIGHT
BEGIN:STANDARD
TZOFFSETFROM:+0200
TZOFFSETTO:+0100
TZNAME:CET
DTSTART:20241027T010000
END:STANDARD
BEGIN:DAYLIGHT
TZOFFSETFROM:+0100
TZOFFSETTO:+0200
TZNAME:CEST
DTSTART:20250330T010000
END:DAYLIGHT
BEGIN:STANDARD
TZOFFSETFROM:+0200
TZOFFSETTO:+0100
TZNAME:CET
DTSTART:20251026T010000
END:STANDARD
END:VTIMEZONE
BEGIN:VEVENT
DTSTART;TZID=Europe/Berlin:20240918T180000
DTEND;TZID=Europe/Berlin:20240918T190000
DTSTAMP:20260422T041230
CREATED:20240911T125535Z
LAST-MODIFIED:20240911T132631Z
UID:10000004-1726682400-1726686000@www.freunde-kunsthalle-rostock.de
SUMMARY:Exklusive Stunde mit Naomi Bergmann
DESCRIPTION:Naomi Clara Bergmann\, eine neue Mitarbeiterin verstärkt das Team der Kunsthalle Rostock. Sie ist im Bereich Kunstvermittlung und Museumspädagogik tätig. Sie stellt sich und ihre Arbeitsschwerpunkte in einer exklusiven Stunde vor.
URL:https://www.freunde-kunsthalle-rostock.de/event/exklusive-stunde-mit-naomi-bergmann/
LOCATION:Kunsthalle Rostock\, Schwanenteichpark\, Hamburger Str. 40\, Rostock\, Deutschland
ATTACH;FMTTYPE=image/jpeg:https://www.freunde-kunsthalle-rostock.de/wp-content/uploads/2024/09/naomi_bergmann-525x700-q80.jpg
END:VEVENT
BEGIN:VEVENT
DTSTART;TZID=Europe/Berlin:20240302T180000
DTEND;TZID=Europe/Berlin:20240302T230000
DTSTAMP:20260422T041230
CREATED:20240124T104816Z
LAST-MODIFIED:20240216T170333Z
UID:10000002-1709402400-1709420400@www.freunde-kunsthalle-rostock.de
SUMMARY:Mitgliederfest "FREUNDE WERBEN FREUNDE"
DESCRIPTION:Samstag 2.3.2024 um 18 Uhr in der Kunsthalle:
URL:https://www.freunde-kunsthalle-rostock.de/event/testveranstaltung/
LOCATION:Kunsthalle Rostock\, Schwanenteichpark\, Hamburger Str. 40\, Rostock\, Deutschland
END:VEVENT
BEGIN:VEVENT
DTSTART;TZID=Europe/Berlin:20231019T180000
DTEND;TZID=Europe/Berlin:20231019T180000
DTSTAMP:20260422T041230
CREATED:20231017T074048Z
LAST-MODIFIED:20231017T091836Z
UID:10000001-1697738400-1697738400@www.freunde-kunsthalle-rostock.de
SUMMARY:Eine exklusive Stunde für Freunde
DESCRIPTION:
URL:https://www.freunde-kunsthalle-rostock.de/event/exklusive-stunde/
LOCATION:Kunsthalle Rostock\, Schwanenteichpark\, Hamburger Str. 40\, Rostock\, Deutschland
CATEGORIES:Eine exklusive Stunde für Freunde
END:VEVENT
END:VCALENDAR