BEGIN:VCALENDAR
VERSION:2.0
PRODID:-//Freunde der Kunsthalle - ECPv6.15.18//NONSGML v1.0//EN
CALSCALE:GREGORIAN
METHOD:PUBLISH
X-WR-CALNAME:Freunde der Kunsthalle
X-ORIGINAL-URL:https://www.freunde-kunsthalle-rostock.de
X-WR-CALDESC:Veranstaltungen für Freunde der Kunsthalle
REFRESH-INTERVAL;VALUE=DURATION:PT1H
X-Robots-Tag:noindex
X-PUBLISHED-TTL:PT1H
BEGIN:VTIMEZONE
TZID:Europe/Berlin
BEGIN:DAYLIGHT
TZOFFSETFROM:+0100
TZOFFSETTO:+0200
TZNAME:CEST
DTSTART:20220327T010000
END:DAYLIGHT
BEGIN:STANDARD
TZOFFSETFROM:+0200
TZOFFSETTO:+0100
TZNAME:CET
DTSTART:20221030T010000
END:STANDARD
BEGIN:DAYLIGHT
TZOFFSETFROM:+0100
TZOFFSETTO:+0200
TZNAME:CEST
DTSTART:20230326T010000
END:DAYLIGHT
BEGIN:STANDARD
TZOFFSETFROM:+0200
TZOFFSETTO:+0100
TZNAME:CET
DTSTART:20231029T010000
END:STANDARD
BEGIN:DAYLIGHT
TZOFFSETFROM:+0100
TZOFFSETTO:+0200
TZNAME:CEST
DTSTART:20240331T010000
END:DAYLIGHT
BEGIN:STANDARD
TZOFFSETFROM:+0200
TZOFFSETTO:+0100
TZNAME:CET
DTSTART:20241027T010000
END:STANDARD
BEGIN:DAYLIGHT
TZOFFSETFROM:+0100
TZOFFSETTO:+0200
TZNAME:CEST
DTSTART:20250330T010000
END:DAYLIGHT
BEGIN:STANDARD
TZOFFSETFROM:+0200
TZOFFSETTO:+0100
TZNAME:CET
DTSTART:20251026T010000
END:STANDARD
BEGIN:DAYLIGHT
TZOFFSETFROM:+0100
TZOFFSETTO:+0200
TZNAME:CEST
DTSTART:20260329T010000
END:DAYLIGHT
BEGIN:STANDARD
TZOFFSETFROM:+0200
TZOFFSETTO:+0100
TZNAME:CET
DTSTART:20261025T010000
END:STANDARD
END:VTIMEZONE
BEGIN:VEVENT
DTSTART;TZID=Europe/Berlin:20250611T180000
DTEND;TZID=Europe/Berlin:20250611T190000
DTSTAMP:20260422T041217
CREATED:20250526T192933Z
LAST-MODIFIED:20250526T200626Z
UID:10000020-1749664800-1749668400@www.freunde-kunsthalle-rostock.de
SUMMARY:Exklusive Stunde für Freunde
DESCRIPTION:Der Geschäftsführer der Kunsthalle Uwe Neumann stellt sich aus Anlass der aktuellen Ausstellung „60 Jahre Hansa Rostock“ den Fragen der Mitglieder unseres Vereins
URL:https://www.freunde-kunsthalle-rostock.de/event/exklusive-stunde-fuer-freunde-4/
LOCATION:Kunsthalle Rostock\, Schwanenteichpark\, Hamburger Str. 40\, Rostock\, Deutschland
ATTACH;FMTTYPE=image/jpeg:https://www.freunde-kunsthalle-rostock.de/wp-content/uploads/2024/09/2023-01-26-Jour-fixe.jpg
END:VEVENT
BEGIN:VEVENT
DTSTART;TZID=Europe/Berlin:20250521T180000
DTEND;TZID=Europe/Berlin:20250521T190000
DTSTAMP:20260422T041217
CREATED:20250406T072007Z
LAST-MODIFIED:20250430T070105Z
UID:10000016-1747850400-1747854000@www.freunde-kunsthalle-rostock.de
SUMMARY:Exklusive Stunde für Freunde
DESCRIPTION:Führung durch das Schaudepot mit Antje Schunke – Schwerpunkt Günther Uecker
URL:https://www.freunde-kunsthalle-rostock.de/event/exklusive-stunde-fuer-freunde-3/
LOCATION:Kunsthalle Rostock\, Schwanenteichpark\, Hamburger Str. 40\, Rostock\, Deutschland
ATTACH;FMTTYPE=image/jpeg:https://www.freunde-kunsthalle-rostock.de/wp-content/uploads/2025/04/Guenther_Uecker-wikipedia.jpg
END:VEVENT
BEGIN:VEVENT
DTSTART;TZID=Europe/Berlin:20250510T073000
DTEND;TZID=Europe/Berlin:20250511T193000
DTSTAMP:20260422T041217
CREATED:20250406T071652Z
LAST-MODIFIED:20250409T142811Z
UID:10000015-1746862200-1746991800@www.freunde-kunsthalle-rostock.de
SUMMARY:Exkursion nach LEIPZIG
DESCRIPTION:Kultur-Exkursion nach LEIPZIG am 10.-11. Mai \nWir laden Sien ein zu einer von unserem ehemaligen Vereinsvorsitzenden Alexander Ludwig organisierte Mehrtagesreise in das „Dynamische Leipzig“. \nNeben dem Besuch des Museums der bildenden Künste (MdbK) und der\nBesichtigung der dort gezeigten großen Retrospektive zu Bernhard Heisig stehen hierbei\nmehrere geführte Stadtrundgänge u.a. durch den Galeriekomplex der Spinnerei und um das\nVölkerschlachtdenkmal mit seinem danebenliegenden Friedhof auf dem Programm. \nBei Interesse melden Sie sich bitte bis zum 19. März unter der Mailadresse:\nludwig@freunde-kunsthalle-rostock.de an.
URL:https://www.freunde-kunsthalle-rostock.de/event/exkursion-nach-leipzig/
LOCATION:Leipzig\, Markt 1A\, Leipzig\, 04109
ATTACH;FMTTYPE=image/jpeg:https://www.freunde-kunsthalle-rostock.de/wp-content/uploads/2025/04/Screenshot-2252.jpg
END:VEVENT
BEGIN:VEVENT
DTSTART;TZID=Europe/Berlin:20250427T150000
DTEND;TZID=Europe/Berlin:20250427T170000
DTSTAMP:20260422T041217
CREATED:20250406T063143Z
LAST-MODIFIED:20250409T144627Z
UID:10000014-1745766000-1745773200@www.freunde-kunsthalle-rostock.de
SUMMARY:Exklusiver Besuch im Kunstmuseum Ahrenshoop
DESCRIPTION:UNTERWEGS  \nChristine und Wolfram Ebersbach – Malerei & Grafik \nDr. Katrin Arrieta wird uns durch eine spannende Ausstellung führen: \nDas Kunstmuseum Ahrenshoop präsentiert vom 5. April bis zum 22. Juni 2025 die\nSonderausstellung “Unterwegs – Christine und Wolfram Ebersbach”\, die Malerei und Grafik\nder beiden Künstler zeigt.\nChristine Ebersbach (*1954) und Wolfram Ebersbach (*1943)\, beide aus der Leipziger Schule\,\nschöpfen ihre Inspiration aus der sie umgebenden Natur\, urbanen Räumen sowie\ngemeinsamen Reisen. Ihre Werke reflektieren zudem Eindrücke der Landschaft und\nArchitektur des Fischlands und des Darß. Während Wolfram Ebersbachs Arbeiten von\nstarken Schwarz-Weiß-Kontrasten geprägt sind\, die Licht und Schatten betonen\, konzentriert\nsich Christine Ebersbach auf die elementaren Formen der Landschaft. \nWeitere Informationen unter https://kunstmuseum-ahrenshoop.de\nBitte melden Sie sich an unter:\nboehm@freunde-kunsthalle-rostock.de \nEs gilt individuelle Anreise und Selbstzahler für Gruppe und Führung Gesamt EUR 13.\nMitfahrgelegenheiten können organisiert werden.
URL:https://www.freunde-kunsthalle-rostock.de/event/exklusiver-besuch-im-kunstmuseum-ahrenshoop/
LOCATION:Kunstmuseum Ahrenshoop\, Weg zum Hohen Ufer 36\, Ahrenshoop
ATTACH;FMTTYPE=image/jpeg:https://www.freunde-kunsthalle-rostock.de/wp-content/uploads/2025/04/Screenshot-2254.jpg
END:VEVENT
BEGIN:VEVENT
DTSTART;TZID=Europe/Berlin:20250410T110000
DTEND;TZID=Europe/Berlin:20250421T180000
DTSTAMP:20260422T041217
CREATED:20250406T061853Z
LAST-MODIFIED:20250409T144546Z
UID:10000013-1744282800-1745258400@www.freunde-kunsthalle-rostock.de
SUMMARY:Rostock KREATIV 2025
DESCRIPTION:Bereits zum 13. Mal findet unsere Ausstellung mit Werken von Hobbykünstlerinnen und Künstlern aus der Region statt. \n→nähere Informationen
URL:https://www.freunde-kunsthalle-rostock.de/event/rostock-kreativ-2025/
LOCATION:Kunsthalle Rostock\, Schwanenteichpark\, Hamburger Str. 40\, Rostock\, Deutschland
ATTACH;FMTTYPE=image/jpeg:https://www.freunde-kunsthalle-rostock.de/wp-content/uploads/2025/04/rostockkreativ_header_2025-1045x1470-q80.jpg
END:VEVENT
BEGIN:VEVENT
DTSTART;TZID=Europe/Berlin:20250301T180000
DTEND;TZID=Europe/Berlin:20250301T230000
DTSTAMP:20260422T041217
CREATED:20241208T061331Z
LAST-MODIFIED:20241215T203157Z
UID:10000011-1740852000-1740870000@www.freunde-kunsthalle-rostock.de
SUMMARY:Freunde werben Freunde
DESCRIPTION:Am 1. März 2025 planen wir eine offene Veranstaltung in der Kunsthalle
URL:https://www.freunde-kunsthalle-rostock.de/event/freunde-werben-freunde/
LOCATION:Kunsthalle Rostock\, Schwanenteichpark\, Hamburger Str. 40\, Rostock\, Deutschland
ATTACH;FMTTYPE=image/jpeg:https://www.freunde-kunsthalle-rostock.de/wp-content/uploads/2024/12/2024-03-Freunde-werben-Freunde-Andre-Herzberg.jpg
END:VEVENT
BEGIN:VEVENT
DTSTART;TZID=Europe/Berlin:20250115T180000
DTEND;TZID=Europe/Berlin:20250115T190000
DTSTAMP:20260422T041217
CREATED:20241208T061048Z
LAST-MODIFIED:20241215T203107Z
UID:10000010-1736964000-1736967600@www.freunde-kunsthalle-rostock.de
SUMMARY:Exklusive Stunde für Freunde
DESCRIPTION:Fragen an den Vorstand unseres Vereins und Terminvorschau auf 2025
URL:https://www.freunde-kunsthalle-rostock.de/event/exklusive-stunde-fuer-freunde-2/
LOCATION:Kunsthalle Rostock\, Schwanenteichpark\, Hamburger Str. 40\, Rostock\, Deutschland
ATTACH;FMTTYPE=image/jpeg:https://www.freunde-kunsthalle-rostock.de/wp-content/uploads/2024/09/Kunsthalle-neu-leer.jpg
END:VEVENT
BEGIN:VEVENT
DTSTART;TZID=Europe/Berlin:20241210T180000
DTEND;TZID=Europe/Berlin:20241210T190000
DTSTAMP:20260422T041217
CREATED:20241208T060854Z
LAST-MODIFIED:20241208T060854Z
UID:10000009-1733853600-1733857200@www.freunde-kunsthalle-rostock.de
SUMMARY:Exklusive Stunde für Freunde
DESCRIPTION:Führung zu Inge Jastram mit Frau Schunke
URL:https://www.freunde-kunsthalle-rostock.de/event/exklusive-stunde-fuer-freunde/
LOCATION:Kunsthalle Rostock\, Schwanenteichpark\, Hamburger Str. 40\, Rostock\, Deutschland
END:VEVENT
BEGIN:VEVENT
DTSTART;TZID=Europe/Berlin:20241124T150000
DTEND;TZID=Europe/Berlin:20241124T170000
DTSTAMP:20260422T041217
CREATED:20240911T130954Z
LAST-MODIFIED:20241030T093934Z
UID:10000005-1732460400-1732467600@www.freunde-kunsthalle-rostock.de
SUMMARY:Ausflug ins Kunstmuseum Ahrenshoop
DESCRIPTION:Im Kunstmuseum Ahrenshoop sehen wir zwei aktuelle Ausstellungen. „Die Künstlerkolonie Nidden“ „Das zeichnerische Werk Joachim Böttchers (1946-2022)“ Anmeldungen bitte an Thomas Böhm: boehm@freunde-kunsthalle-rostock.de
URL:https://www.freunde-kunsthalle-rostock.de/event/ausflug-ins-kunstmuseum-ahrenshoop/
LOCATION:Kunstmuseum Ahrenshoop\, Weg zum Hohen Ufer 36\, Ahrenshoop
ATTACH;FMTTYPE=image/jpeg:https://www.freunde-kunsthalle-rostock.de/wp-content/uploads/2024/09/kunstmuseum-ahrenshoop-1.jpg
END:VEVENT
BEGIN:VEVENT
DTSTART;TZID=Europe/Berlin:20241113T180000
DTEND;TZID=Europe/Berlin:20241113T190000
DTSTAMP:20260422T041217
CREATED:20241030T093415Z
LAST-MODIFIED:20241030T094032Z
UID:10000008-1731520800-1731524400@www.freunde-kunsthalle-rostock.de
SUMMARY:Exklusive Stunde für Freunde: Vortrag
DESCRIPTION:Beutekunst in der Eremitage\nVon HOLZDORF nach ST. PETERSBURG – Beutekunst in der EREMITAGE. \nÜberraschungen beim Besuch eines der bedeutendsten Kunstmuseen der Welt – ein Vortrag unseres Vorstandsmitglieds Ulf Kringel.
URL:https://www.freunde-kunsthalle-rostock.de/event/exklusive-stunde-fuer-freunde-vortrag/
LOCATION:Kunsthalle Rostock\, Schwanenteichpark\, Hamburger Str. 40\, Rostock\, Deutschland
ATTACH;FMTTYPE=image/jpeg:https://www.freunde-kunsthalle-rostock.de/wp-content/uploads/2024/10/1b-3-b-Generalstabsgebaeude-Petersburg-mit-Alexandersaeule.jpg
END:VEVENT
BEGIN:VEVENT
DTSTART;VALUE=DATE:20241003
DTEND;VALUE=DATE:20241014
DTSTAMP:20260422T041217
CREATED:20240911T132225Z
LAST-MODIFIED:20250626T074319Z
UID:10000007-1727913600-1728863999@www.freunde-kunsthalle-rostock.de
SUMMARY:Rostock kreativ 2024
DESCRIPTION:Zum 12. mal findet „Rostock Kreativ“ in der Kunsthalle statt. Ausstellungsdauer 3.- 13. Oktober 2024.
URL:https://www.freunde-kunsthalle-rostock.de/event/rostock-kreativ-2024/
LOCATION:Kunsthalle Rostock\, Schwanenteichpark\, Hamburger Str. 40\, Rostock\, Deutschland
ATTACH;FMTTYPE=image/jpeg:https://www.freunde-kunsthalle-rostock.de/wp-content/uploads/2024/09/RKR-ove-Kreativ01-scaled-e1609232501652.jpg
END:VEVENT
BEGIN:VEVENT
DTSTART;TZID=Europe/Berlin:20240922T130000
DTEND;TZID=Europe/Berlin:20240922T153000
DTSTAMP:20260422T041217
CREATED:20240911T131808Z
LAST-MODIFIED:20240911T132808Z
UID:10000006-1727010000-1727019000@www.freunde-kunsthalle-rostock.de
SUMMARY:Berlin: Besuch der Ausstellung „LINA BO BARDI- DIE POESIE DES BETONS“ und des Künstlerateliers LUZIA SIMONS
DESCRIPTION:Treffpunkt : individuelle Anreise!\n22.09.2024 um 13 Uhr in Berlin\nTchoban Foundation – Museum für Architekturzeichnung\nChristinenstraße 18a \n \nBesuch und Führung durch die Ausstellung LINA BO BARDI mit der Kuratorin Tereza Arruda \n1914 wurde Lina Bo Bardi in Rom geboren\n1946 immigrierte die Architektin nach Brasilien.\n2021 erfolgte auf der Architekturbiennale von Venedig die Auszeichnung mit dem Goldenen\nLöwen\, der Höhepunkt und Würdigung ihres Lebenswerkes\nin der Ausstellung in Berlin sind 40 Zeichnungen von Bo Bardi zusehen\, die zum ersten Mal in\nEuropa gezeigt werden \nLUZIA SIMONS \nLuzia Simons geboren 1953 (Alter 71 Jahre) lebt in Berlin\nist eine brasilianische bildende Künstlerin\, hat ihre Arbeiten international ausgestellt\nteilgenommen an der Ausstellung Wasser und Pflanzen in der Kunsthalle Rostock\nist Pionierin in der Entwicklung des Scanogramms – einer Medientechnik die Elemente der\nMalerei und Fotografie zusammenführt
URL:https://www.freunde-kunsthalle-rostock.de/event/berlin-besuch-der-ausstellung-lina-bo-bardi-die-poesie-des-betons-und-des-kuenstlerateliers-luzia-simons/
LOCATION:Tchoban Foundation – Museum für Architekturzeichnung\, Christinenstraße 18a\, Berlin\, 10119
ATTACH;FMTTYPE=image/jpeg:https://www.freunde-kunsthalle-rostock.de/wp-content/uploads/2024/09/image_manager__rex_event_image_036arqd0121_web.jpg
END:VEVENT
BEGIN:VEVENT
DTSTART;TZID=Europe/Berlin:20240918T180000
DTEND;TZID=Europe/Berlin:20240918T190000
DTSTAMP:20260422T041217
CREATED:20240911T125535Z
LAST-MODIFIED:20240911T132631Z
UID:10000004-1726682400-1726686000@www.freunde-kunsthalle-rostock.de
SUMMARY:Exklusive Stunde mit Naomi Bergmann
DESCRIPTION:Naomi Clara Bergmann\, eine neue Mitarbeiterin verstärkt das Team der Kunsthalle Rostock. Sie ist im Bereich Kunstvermittlung und Museumspädagogik tätig. Sie stellt sich und ihre Arbeitsschwerpunkte in einer exklusiven Stunde vor.
URL:https://www.freunde-kunsthalle-rostock.de/event/exklusive-stunde-mit-naomi-bergmann/
LOCATION:Kunsthalle Rostock\, Schwanenteichpark\, Hamburger Str. 40\, Rostock\, Deutschland
ATTACH;FMTTYPE=image/jpeg:https://www.freunde-kunsthalle-rostock.de/wp-content/uploads/2024/09/naomi_bergmann-525x700-q80.jpg
END:VEVENT
BEGIN:VEVENT
DTSTART;TZID=Europe/Berlin:20240302T180000
DTEND;TZID=Europe/Berlin:20240302T230000
DTSTAMP:20260422T041217
CREATED:20240124T104816Z
LAST-MODIFIED:20240216T170333Z
UID:10000002-1709402400-1709420400@www.freunde-kunsthalle-rostock.de
SUMMARY:Mitgliederfest "FREUNDE WERBEN FREUNDE"
DESCRIPTION:Samstag 2.3.2024 um 18 Uhr in der Kunsthalle:
URL:https://www.freunde-kunsthalle-rostock.de/event/testveranstaltung/
LOCATION:Kunsthalle Rostock\, Schwanenteichpark\, Hamburger Str. 40\, Rostock\, Deutschland
END:VEVENT
BEGIN:VEVENT
DTSTART;TZID=Europe/Berlin:20231019T180000
DTEND;TZID=Europe/Berlin:20231019T180000
DTSTAMP:20260422T041217
CREATED:20231017T074048Z
LAST-MODIFIED:20231017T091836Z
UID:10000001-1697738400-1697738400@www.freunde-kunsthalle-rostock.de
SUMMARY:Eine exklusive Stunde für Freunde
DESCRIPTION:
URL:https://www.freunde-kunsthalle-rostock.de/event/exklusive-stunde/
LOCATION:Kunsthalle Rostock\, Schwanenteichpark\, Hamburger Str. 40\, Rostock\, Deutschland
CATEGORIES:Eine exklusive Stunde für Freunde
END:VEVENT
END:VCALENDAR